BEGIN:VCALENDAR
VERSION:2.0
PRODID:-//KRTN Enchanted Air Radio - ECPv5.16.4.1//NONSGML v1.0//EN
CALSCALE:GREGORIAN
METHOD:PUBLISH
X-WR-CALNAME:KRTN Enchanted Air Radio
X-ORIGINAL-URL:https://krtnradio.com/wp
X-WR-CALDESC:Events for KRTN Enchanted Air Radio
BEGIN:VTIMEZONE
TZID:America/Denver
BEGIN:DAYLIGHT
TZOFFSETFROM:-0700
TZOFFSETTO:-0600
TZNAME:MDT
DTSTART:20170312T090000
END:DAYLIGHT
BEGIN:STANDARD
TZOFFSETFROM:-0600
TZOFFSETTO:-0700
TZNAME:MST
DTSTART:20171105T080000
END:STANDARD
END:VTIMEZONE
BEGIN:VEVENT
DTSTART;VALUE=DATE:20170211
DTEND;VALUE=DATE:20170212
DTSTAMP:20260425T161802
CREATED:20170126T174309Z
LAST-MODIFIED:20170126T175205Z
UID:32346-1486771200-1486857599@krtnradio.com
SUMMARY:Annual CUPIDS & HEARTS VALENTINES DANCE
DESCRIPTION:RATON LIONS CLUB presents the 2nd ANNUAL CUPIDS & HEARTS VALENTINES DANCE on SATURDAY\, FEBRUARY 11th\, 8 pm until 12 midnight at the Raton CONVENTION CENTER with music by NOBY GOMEZ\, DOOR PRIZES and RAFFLES! CASH BAR:  PLEASE HAVE IDs READY. SAFE RIDES WILL BE PROVIDED IF NEEDED.  \n \n  \nSINGLES $6 – COUPLES $10
URL:https://krtnradio.com/wp/event/annual-cupids-hearts-valentines-dance/
LOCATION:Raton Convention Center\, 901 S 3rd\, Raton\, NM\, 87740\, United States
CATEGORIES:Area Events
ATTACH;FMTTYPE=image/jpeg:https://krtnradio.com/wp/wp-content/uploads/2015/02/Valentine-dance-vintage-card.jpg
END:VEVENT
END:VCALENDAR