BEGIN:VCALENDAR
VERSION:2.0
PRODID:-//KRTN Enchanted Air Radio - ECPv5.16.4.1//NONSGML v1.0//EN
CALSCALE:GREGORIAN
METHOD:PUBLISH
X-WR-CALNAME:KRTN Enchanted Air Radio
X-ORIGINAL-URL:https://krtnradio.com/wp
X-WR-CALDESC:Events for KRTN Enchanted Air Radio
BEGIN:VTIMEZONE
TZID:America/Denver
BEGIN:DAYLIGHT
TZOFFSETFROM:-0700
TZOFFSETTO:-0600
TZNAME:MDT
DTSTART:20180311T090000
END:DAYLIGHT
BEGIN:STANDARD
TZOFFSETFROM:-0600
TZOFFSETTO:-0700
TZNAME:MST
DTSTART:20181104T080000
END:STANDARD
END:VTIMEZONE
BEGIN:VEVENT
DTSTART;TZID=America/Denver:20180927T180000
DTEND;TZID=America/Denver:20180927T180000
DTSTAMP:20260424T161430
CREATED:20180824T173311Z
LAST-MODIFIED:20180920T161329Z
UID:42514-1538071200-1538071200@krtnradio.com
SUMMARY:Al-Anon Meeting
DESCRIPTION:Al-Anon comes to Raton thanks to support from the World Journal and Holy Trinity Episcopal Church in Raton.  Meetings are every Thursday at 6 PM at the office of the World Journal (next door to the El Raton Theater) in Raton.  Come and give support\, come and be supported.  Al-Anon is a self supporting group that seeks to assist the family and friends of people who are abusing alcohol or other substances.
URL:https://krtnradio.com/wp/event/al-anon-meeting-5/
CATEGORIES:Meetings
ATTACH;FMTTYPE=image/jpeg:https://krtnradio.com/wp/wp-content/uploads/2018/08/alanonmeetings.jpg
END:VEVENT
END:VCALENDAR