BEGIN:VCALENDAR
VERSION:2.0
PRODID:-//KRTN Enchanted Air Radio - ECPv5.16.4.1//NONSGML v1.0//EN
CALSCALE:GREGORIAN
METHOD:PUBLISH
X-WR-CALNAME:KRTN Enchanted Air Radio
X-ORIGINAL-URL:https://krtnradio.com/wp
X-WR-CALDESC:Events for KRTN Enchanted Air Radio
BEGIN:VTIMEZONE
TZID:America/Denver
BEGIN:DAYLIGHT
TZOFFSETFROM:-0700
TZOFFSETTO:-0600
TZNAME:MDT
DTSTART:20200308T090000
END:DAYLIGHT
BEGIN:STANDARD
TZOFFSETFROM:-0600
TZOFFSETTO:-0700
TZNAME:MST
DTSTART:20201101T080000
END:STANDARD
END:VTIMEZONE
BEGIN:VEVENT
DTSTART;TZID=America/Denver:20200926T080000
DTEND;TZID=America/Denver:20200926T110000
DTSTAMP:20260424T102410
CREATED:20200915T201022Z
LAST-MODIFIED:20200915T201022Z
UID:67129-1601107200-1601118000@krtnradio.com
SUMMARY:Adult Lap Swim Raton Regional Aquatic Center
DESCRIPTION:http://www.ratonrecreation.com/hours.html \n2020 Summer Hours of Operation\nMONDAY-FRIDAY\n6am-10:30am Laps swim/exercise\n10:00 am-11:30 am Parent and Me Swim (Tues & Thurs ONLY)\n(intended for patrons with swimmers 10yrs old or younger)\n1:30pm – 5:30pm OPEN SWIM\n4:30pm – 7:30pm Laps swim/exercise \nSATURDAY\n8 am-11 am Laps swim/exercise \nSUNDAY\nClosed\n​\n(The Raton Regional Aquatic Center charges an admission fee to the facility\, not a swim fee. Admission fees apply to all patrons\, regardless of whether they are swimming or not) \nSorry. We cannot accept Credit or Debit Cards (yet)\nCall the Aquatic Center @ (575) 445-4271 for special pool accommodations\, party reservations\, and pool rentals.
URL:https://krtnradio.com/wp/event/adult-lap-swim-raton-regional-aquatic-center-7/
LOCATION:Raton Regional Aquatic Center\, Raton  \, NM\, United States
CATEGORIES:Meetings
ATTACH;FMTTYPE=image/png:https://krtnradio.com/wp/wp-content/uploads/2018/09/AdultSwim.png
END:VEVENT
END:VCALENDAR