BEGIN:VCALENDAR
VERSION:2.0
PRODID:-//KRTN Enchanted Air Radio - ECPv5.16.4.1//NONSGML v1.0//EN
CALSCALE:GREGORIAN
METHOD:PUBLISH
X-WR-CALNAME:KRTN Enchanted Air Radio
X-ORIGINAL-URL:https://krtnradio.com/wp
X-WR-CALDESC:Events for KRTN Enchanted Air Radio
BEGIN:VTIMEZONE
TZID:America/Denver
BEGIN:DAYLIGHT
TZOFFSETFROM:-0700
TZOFFSETTO:-0600
TZNAME:MDT
DTSTART:20200308T090000
END:DAYLIGHT
BEGIN:STANDARD
TZOFFSETFROM:-0600
TZOFFSETTO:-0700
TZNAME:MST
DTSTART:20201101T080000
END:STANDARD
END:VTIMEZONE
BEGIN:VEVENT
DTSTART;TZID=America/Denver:20200226T193000
DTEND;TZID=America/Denver:20200226T193000
DTSTAMP:20260424T073403
CREATED:20191231T235344Z
LAST-MODIFIED:20191231T235344Z
UID:57837-1582745400-1582745400@krtnradio.com
SUMMARY:AA Meeting ~ Land of Enchantment Group (LOE)
DESCRIPTION:Meetings every Wednesday night at 7:30 PM at First United Methodist in Raton \nAnonymity is the spiritual foundation of all our\ntraditions\, ever reminding us to place principles\nbefore personalities.\nA.A. PREAMBLE©\nAlcoholics Anonymous is a fellowship of men\nand women who share their experience\, strength\nand hope with each other that they may solve\ntheir common problem and help others to recover\nfrom alcoholism.\nThe only requirement for membership is a desire\nto stop drinking.\nThere are no dues or fees for A.A. membership;\nwe are self supporting through our own contributions.\nA.A. is not allied with any sect\, denomination\,\npolitics\, organization or institution; does not wish\nto engage in any controversy\, neither endorses\nnor opposes any causes. Our primary purpose is\nto stay sober and help other alcoholics to achieve\nsobriety.\nCopyright © The AA Grapevine\, Inc.
URL:https://krtnradio.com/wp/event/aa-meeting-land-of-enchantment-group-loe-51/
LOCATION:First United Methodist Church\, 1501 S 4th St\, Raton\, NM\, 87740
CATEGORIES:Meetings
ATTACH;FMTTYPE=image/jpeg:https://krtnradio.com/wp/wp-content/uploads/2018/10/AALogo.jpg
END:VEVENT
END:VCALENDAR