BEGIN:VCALENDAR
VERSION:2.0
PRODID:-//KRTN Enchanted Air Radio - ECPv5.16.4.1//NONSGML v1.0//EN
CALSCALE:GREGORIAN
METHOD:PUBLISH
X-WR-CALNAME:KRTN Enchanted Air Radio
X-ORIGINAL-URL:https://krtnradio.com/wp
X-WR-CALDESC:Events for KRTN Enchanted Air Radio
BEGIN:VTIMEZONE
TZID:America/Denver
BEGIN:DAYLIGHT
TZOFFSETFROM:-0700
TZOFFSETTO:-0600
TZNAME:MDT
DTSTART:20170312T090000
END:DAYLIGHT
BEGIN:STANDARD
TZOFFSETFROM:-0600
TZOFFSETTO:-0700
TZNAME:MST
DTSTART:20171105T080000
END:STANDARD
END:VTIMEZONE
BEGIN:VEVENT
DTSTART;VALUE=DATE:20170108
DTEND;VALUE=DATE:20170109
DTSTAMP:20260424T202446
CREATED:20161223T223419Z
LAST-MODIFIED:20161223T223447Z
UID:31826-1483833600-1483919999@krtnradio.com
SUMMARY:A Partnership of Faith Inter-Church Service
DESCRIPTION: Raton Ministerial Alliance will host A Partnership of Faith Inter-Church Service Sunday\, January 8th from 4 pm until 5:30 pm at First Baptist Church. This will be a time to gather together and be the body of Christ. Join all for a “Partnership of Faith” event to bring in the new year as the Church of Raton.
URL:https://krtnradio.com/wp/event/a-partnership-of-faith-inter-church-service/
LOCATION:First Baptist Church of Raton\, 225 S. 3rd St. @Rio Grande\, Raton \, NM\, 87740\, United States
CATEGORIES:Area Events
ATTACH;FMTTYPE=image/jpeg:https://krtnradio.com/wp/wp-content/uploads/2016/12/hand-shake-b7w.jpg
END:VEVENT
END:VCALENDAR