BEGIN:VCALENDAR
VERSION:2.0
PRODID:-//KRTN Enchanted Air Radio - ECPv5.16.4.1//NONSGML v1.0//EN
CALSCALE:GREGORIAN
METHOD:PUBLISH
X-WR-CALNAME:KRTN Enchanted Air Radio
X-ORIGINAL-URL:https://krtnradio.com/wp
X-WR-CALDESC:Events for KRTN Enchanted Air Radio
BEGIN:VTIMEZONE
TZID:America/Denver
BEGIN:DAYLIGHT
TZOFFSETFROM:-0700
TZOFFSETTO:-0600
TZNAME:MDT
DTSTART:20200308T090000
END:DAYLIGHT
BEGIN:STANDARD
TZOFFSETFROM:-0600
TZOFFSETTO:-0700
TZNAME:MST
DTSTART:20201101T080000
END:STANDARD
END:VTIMEZONE
BEGIN:VEVENT
DTSTART;TZID=America/Denver:20200911T120000
DTEND;TZID=America/Denver:20200911T160000
DTSTAMP:20260424T154319
CREATED:20200827T211912Z
LAST-MODIFIED:20200827T211929Z
UID:66341-1599825600-1599840000@krtnradio.com
SUMMARY:44th Annual InBank Virtual Exhibition & Sale
DESCRIPTION:Please mark your calendars \nfor the 44th Annual InBank Exhibition and Sale. \nArtists\, please note the drop off date is \nFriday\, September 11\, 2020  \n12 p.m. – 4 p.m.  \nat The Old Pass Gallery\, 145 S. 1st Street\, Raton\, NM \nMasks required when dropping off work. \nShow opens Online \nTuesday\, Sept. 15\, 2020\, through Friday\, September 18\, 2020 \nSince the show will be virtual this year due to statewide mandates and COVID safe practices\, there will not be any in-person viewing of the show and there will also not be a reception this year.  However\, the show must go on\, so we will be selling all pieces through our online gallery.  This will give our artists a nationwide audience. \nVirtual Sale and Exhibit will be online at www.ratonarts.org \nfor additional information or questions email:  director@ratonarts.org or call (575)445-2052
URL:https://krtnradio.com/wp/event/44th-annual-inbank-virtual-exhibition-sale/
LOCATION:Old Pass Gallery\, 145 S 1st St.\, Raton\, NM\, 87740\, United States
CATEGORIES:Area Events
ATTACH;FMTTYPE=image/jpeg:https://krtnradio.com/wp/wp-content/uploads/2020/08/Raton-Arts-Humanities-Council-Inc-Logo.jpg
ORGANIZER;CN="Raton%20Arts%20and%20Humanities":MAILTO:director@ratonarts.org
END:VEVENT
END:VCALENDAR