BEGIN:VCALENDAR
VERSION:2.0
PRODID:-//KRTN Enchanted Air Radio - ECPv5.16.4.1//NONSGML v1.0//EN
CALSCALE:GREGORIAN
METHOD:PUBLISH
X-WR-CALNAME:KRTN Enchanted Air Radio
X-ORIGINAL-URL:https://krtnradio.com/wp
X-WR-CALDESC:Events for KRTN Enchanted Air Radio
BEGIN:VTIMEZONE
TZID:America/Denver
BEGIN:DAYLIGHT
TZOFFSETFROM:-0700
TZOFFSETTO:-0600
TZNAME:MDT
DTSTART:20200308T090000
END:DAYLIGHT
BEGIN:STANDARD
TZOFFSETFROM:-0600
TZOFFSETTO:-0700
TZNAME:MST
DTSTART:20201101T080000
END:STANDARD
END:VTIMEZONE
BEGIN:VEVENT
DTSTART;TZID=America/Denver:20200319T173000
DTEND;TZID=America/Denver:20200319T173000
DTSTAMP:20260425T201247
CREATED:20200113T235003Z
LAST-MODIFIED:20200317T203709Z
UID:58441-1584639000-1584639000@krtnradio.com
SUMMARY:Cancelled: 3rd Thursday Heritage Crafts ~ Trinidad History Museum on the Historic Santa Fe Trail
DESCRIPTION:Join us for Heritage Crafts in the Bloom Mansion \n1/16 Quilting Squares\n2/20 Lace Collars\n3/19 Wool Spinning\n4/16 TBD\n5/21 TBD
URL:https://krtnradio.com/wp/event/3rd-thursday-heritage-crafts-trinidad-history-museum-on-the-historic-santa-fe-trail-3/
LOCATION:Trinidad history museum\, 312 E Main St\, Trinidad\, CO\, 81082\, United States
CATEGORIES:Meetings
ATTACH;FMTTYPE=image/jpeg:https://krtnradio.com/wp/wp-content/uploads/2020/01/3rd-Thursday-Heritage-Nights.jpg
END:VEVENT
END:VCALENDAR