BEGIN:VCALENDAR
VERSION:2.0
PRODID:-//KRTN Enchanted Air Radio - ECPv5.16.4.1//NONSGML v1.0//EN
CALSCALE:GREGORIAN
METHOD:PUBLISH
X-WR-CALNAME:KRTN Enchanted Air Radio
X-ORIGINAL-URL:https://krtnradio.com/wp
X-WR-CALDESC:Events for KRTN Enchanted Air Radio
BEGIN:VTIMEZONE
TZID:America/Denver
BEGIN:DAYLIGHT
TZOFFSETFROM:-0700
TZOFFSETTO:-0600
TZNAME:MDT
DTSTART:20200308T090000
END:DAYLIGHT
BEGIN:STANDARD
TZOFFSETFROM:-0600
TZOFFSETTO:-0700
TZNAME:MST
DTSTART:20201101T080000
END:STANDARD
END:VTIMEZONE
BEGIN:VEVENT
DTSTART;TZID=America/Denver:20200912T100000
DTEND;TZID=America/Denver:20200912T180000
DTSTAMP:20260424T152324
CREATED:20200910T182801Z
LAST-MODIFIED:20200910T182801Z
UID:66868-1599904800-1599933600@krtnradio.com
SUMMARY:2nd Annual NM Prickly Pear Festival Online Event
DESCRIPTION:The New Mexico Prickly Pear festival is the 2nd in an annual series that celebrates everything prickly pear; food\, art\, and music!\n\nThe 2nd Annual NM Prickly Pear Festival is going virtual.\n\nIn order to keep everyone safe and healthy the NM Prickly Pear fest will hold its cooking demonstrations\, talks\, music\, and activities online.\n\nIt will also feature a drive-thru/walk-thru market where people will be able to pre-order vendor products through our online marketplace where you can shop from all the Prickly Pear Festival vendors and browse and purchase all things prickly pear.\n\nTickets are donation-based (with a suggested $5-10 per ticket) and all proceeds will go to the Three Sisters Kitchen and COVID-19 relief for the Navajo(Dine) Nation.\n\nFor more information and for our vendor marketplace go to our website www.nmpricklypearfest.com\n\nRegister today! https://www.viewcy.com/e/2nd_annual_new_mexico
URL:https://krtnradio.com/wp/event/2nd-annual-nm-prickly-pear-festival-online-event/
CATEGORIES:Area Events
ATTACH;FMTTYPE=image/jpeg:https://krtnradio.com/wp/wp-content/uploads/2020/09/prickly-pear-clip-art.jpg
END:VEVENT
END:VCALENDAR