BEGIN:VCALENDAR
VERSION:2.0
PRODID:-//KRTN Enchanted Air Radio - ECPv5.16.4.1//NONSGML v1.0//EN
CALSCALE:GREGORIAN
METHOD:PUBLISH
X-WR-CALNAME:KRTN Enchanted Air Radio
X-ORIGINAL-URL:https://krtnradio.com/wp
X-WR-CALDESC:Events for KRTN Enchanted Air Radio
BEGIN:VTIMEZONE
TZID:America/Denver
BEGIN:DAYLIGHT
TZOFFSETFROM:-0700
TZOFFSETTO:-0600
TZNAME:MDT
DTSTART:20200308T090000
END:DAYLIGHT
BEGIN:STANDARD
TZOFFSETFROM:-0600
TZOFFSETTO:-0700
TZNAME:MST
DTSTART:20201101T080000
END:STANDARD
END:VTIMEZONE
BEGIN:VEVENT
DTSTART;VALUE=DATE:20200714
DTEND;VALUE=DATE:20200717
DTSTAMP:20260425T075441
CREATED:20200703T152452Z
LAST-MODIFIED:20200703T152452Z
UID:64233-1594684800-1594943999@krtnradio.com
SUMMARY:22nd Annual International Tournament Public · Hosted by Raton Country Club
DESCRIPTION:Aug 14 at 7:30 AM – Aug 16 at 7:30 AM \nRaton Country Club\n510 Country Club Rd\, Raton\, New Mexico 87740 \n  \nThree-person scramble\, Stableford scoring. Entries accepted thru Aug. 12 so please sign up quickly as spots will fill up. Only 8 teams per flight
URL:https://krtnradio.com/wp/event/22nd-annual-international-tournament-public-%c2%b7-hosted-by-raton-country-club/
LOCATION:Raton Country Club\, 510 Country Club Rd\, Raton\, NM\, 87740\, United States
CATEGORIES:Sports Events
ATTACH;FMTTYPE=image/jpeg:https://krtnradio.com/wp/wp-content/uploads/2017/08/golf-tourney-generic.jpg
END:VEVENT
END:VCALENDAR