BEGIN:VCALENDAR
VERSION:2.0
PRODID:-//KRTN Enchanted Air Radio - ECPv5.16.4.1//NONSGML v1.0//EN
CALSCALE:GREGORIAN
METHOD:PUBLISH
X-WR-CALNAME:KRTN Enchanted Air Radio
X-ORIGINAL-URL:https://krtnradio.com/wp
X-WR-CALDESC:Events for KRTN Enchanted Air Radio
BEGIN:VTIMEZONE
TZID:America/Denver
BEGIN:DAYLIGHT
TZOFFSETFROM:-0700
TZOFFSETTO:-0600
TZNAME:MDT
DTSTART:20240310T090000
END:DAYLIGHT
BEGIN:STANDARD
TZOFFSETFROM:-0600
TZOFFSETTO:-0700
TZNAME:MST
DTSTART:20241103T080000
END:STANDARD
END:VTIMEZONE
BEGIN:VEVENT
DTSTART;VALUE=DATE:20240707
DTEND;VALUE=DATE:20240708
DTSTAMP:20260423T081224
CREATED:20240327T200420Z
LAST-MODIFIED:20240327T200420Z
UID:89613-1720310400-1720396799@krtnradio.com
SUMMARY:2024 International Santa Fe Trail Balloon Rally By: Raton Main Street
DESCRIPTION:
URL:https://krtnradio.com/wp/event/2024-international-santa-fe-trail-balloon-rally-by-raton-main-street-3/
CATEGORIES:Area Events
END:VEVENT
END:VCALENDAR