BEGIN:VCALENDAR
VERSION:2.0
PRODID:-//KRTN Enchanted Air Radio - ECPv5.16.4.1//NONSGML v1.0//EN
CALSCALE:GREGORIAN
METHOD:PUBLISH
X-WR-CALNAME:KRTN Enchanted Air Radio
X-ORIGINAL-URL:https://krtnradio.com/wp
X-WR-CALDESC:Events for KRTN Enchanted Air Radio
BEGIN:VTIMEZONE
TZID:America/Denver
BEGIN:DAYLIGHT
TZOFFSETFROM:-0700
TZOFFSETTO:-0600
TZNAME:MDT
DTSTART:20240310T090000
END:DAYLIGHT
BEGIN:STANDARD
TZOFFSETFROM:-0600
TZOFFSETTO:-0700
TZNAME:MST
DTSTART:20241103T080000
END:STANDARD
END:VTIMEZONE
BEGIN:VEVENT
DTSTART;TZID=America/Denver:20240426T083000
DTEND;TZID=America/Denver:20240426T120000
DTSTAMP:20260423T130740
CREATED:20240425T202259Z
LAST-MODIFIED:20240425T202259Z
UID:90294-1714120200-1714132800@krtnradio.com
SUMMARY:2024 ARBOR DAY TREE PROGRAM
DESCRIPTION:2024 ARBOR DAY TREE PROGRAM \n\n            On Friday\, April 26th\, the official day to celebrate Arbor Day\, the representatives will be at INBank with handouts and tree seedlings to give out to the public.   We will be there from 8:30-noon at the main branch.  We have Austrian Pine and Douglas Fir seedlings to give out.
URL:https://krtnradio.com/wp/event/2024-arbor-day-tree-program/
CATEGORIES:Area Events
END:VEVENT
END:VCALENDAR