BEGIN:VCALENDAR
VERSION:2.0
PRODID:-//KRTN Enchanted Air Radio - ECPv5.16.4.1//NONSGML v1.0//EN
CALSCALE:GREGORIAN
METHOD:PUBLISH
X-WR-CALNAME:KRTN Enchanted Air Radio
X-ORIGINAL-URL:https://krtnradio.com/wp
X-WR-CALDESC:Events for KRTN Enchanted Air Radio
BEGIN:VTIMEZONE
TZID:America/Denver
BEGIN:DAYLIGHT
TZOFFSETFROM:-0700
TZOFFSETTO:-0600
TZNAME:MDT
DTSTART:20240310T090000
END:DAYLIGHT
BEGIN:STANDARD
TZOFFSETFROM:-0600
TZOFFSETTO:-0700
TZNAME:MST
DTSTART:20241103T080000
END:STANDARD
END:VTIMEZONE
BEGIN:VEVENT
DTSTART;TZID=America/Denver:20240512T140000
DTEND;TZID=America/Denver:20240512T170000
DTSTAMP:20260423T134501
CREATED:20240508T171634Z
LAST-MODIFIED:20240508T171634Z
UID:90471-1715522400-1715533200@krtnradio.com
SUMMARY:1St Annual Mothers Day Dance Cimarron Village Park
DESCRIPTION:
URL:https://krtnradio.com/wp/event/1st-annual-mothers-day-dance-cimarron-village-park/
CATEGORIES:Area Events
END:VEVENT
END:VCALENDAR