BEGIN:VCALENDAR
VERSION:2.0
PRODID:-//KRTN Enchanted Air Radio - ECPv5.16.4.1//NONSGML v1.0//EN
CALSCALE:GREGORIAN
METHOD:PUBLISH
X-WR-CALNAME:KRTN Enchanted Air Radio
X-ORIGINAL-URL:https://krtnradio.com/wp
X-WR-CALDESC:Events for KRTN Enchanted Air Radio
BEGIN:VTIMEZONE
TZID:America/Denver
BEGIN:DAYLIGHT
TZOFFSETFROM:-0700
TZOFFSETTO:-0600
TZNAME:MDT
DTSTART:20200308T090000
END:DAYLIGHT
BEGIN:STANDARD
TZOFFSETFROM:-0600
TZOFFSETTO:-0700
TZNAME:MST
DTSTART:20201101T080000
END:STANDARD
END:VTIMEZONE
BEGIN:VEVENT
DTSTART;TZID=America/Denver:20200323T150000
DTEND;TZID=America/Denver:20200323T150000
DTSTAMP:20260425T184051
CREATED:20200114T203202Z
LAST-MODIFIED:20200114T203202Z
UID:58522-1584975600-1584975600@krtnradio.com
SUMMARY:1 ON 1 Computer Assistance ~ Carnegie Public Library
DESCRIPTION:COMPUTER \nTABLET \nSMART PHONE \nE-READER \nTAILORED TO YOUR NEEDS
URL:https://krtnradio.com/wp/event/1-on-1-computer-assistance-carnegie-public-library-159/
LOCATION:Carnegie Public Library of Trinidad\, 202 N. Animas\, Trinidad\, CO\, 81082\, United States
CATEGORIES:Meetings
ATTACH;FMTTYPE=image/jpeg:https://krtnradio.com/wp/wp-content/uploads/2018/10/ComputerHelpLogo.jpg
END:VEVENT
END:VCALENDAR